BEGIN:VCALENDAR
VERSION:2.0
PRODID:http://www.pfarrei-daun.de
BEGIN:VEVENT
UID:395e2306-16b8-11f1-8342-0242ac11002b-1777105800000-de
DTSTAMP:20260303T041951Z
DTSTART:20260425T083000Z
DTEND:20260425T093000Z
SUMMARY;LANGUAGE=de:Daun Feier der Erstkommunion für die Orte Bleckhausen, Deudesfeld, Meisburg, Niederstadtfeld, Oberstadtfeld, Salm, Schutz, Trittscheid, Üdersdorf, Wallenborn, Weidenach und Weiersbach
END:VEVENT
END:VCALENDAR
