BEGIN:VCALENDAR
VERSION:2.0
PRODID:http://www.pfarrei-daun.de
BEGIN:VEVENT
UID:2e9cfdb5-16b8-11f1-8342-0242ac11002b-1776961800000-de
DTSTAMP:20260303T041933Z
DTSTART:20260423T163000Z
DTEND:20260423T173000Z
SUMMARY;LANGUAGE=de:Hl. Messe mit eucharistischem Segen, anschl. Fortsetzung des Fatimarosenkranzes
END:VEVENT
END:VCALENDAR
